BEGIN:VCALENDAR
VERSION:2.0
PRODID:-//Tukios.com/
BEGIN:VEVENT
UID:3ffdf9f8-70a0-4f4c-965b-e4a86151588f@www.weigelfuneralhomes.com
DTSTAMP:20260421T024340Z
DTSTART:20260509T170000Z
DTEND:20260509T200000Z
SUMMARY:Celebration of Life
DESCRIPTION:
URL:https://www.weigelfuneralhomes.com/obituaries/daniel-witt
LOCATION:Swanton American Legion Hall  200 S. Hallett Ave  Swanton OH 
	43558
GEO:41.5835767;-83.8834642
END:VEVENT
END:VCALENDAR