BEGIN:VCALENDAR
VERSION:2.0
PRODID:-//Tukios.com/
BEGIN:VEVENT
UID:ce0abea7-61bf-4d3a-921d-ec98065e930a@www.weigelfuneralhomes.com
DTSTAMP:20260421T030155Z
DTSTART:20260423T190000Z
DTEND:20260423T230000Z
SUMMARY:Visitation
DESCRIPTION:
URL:https://www.weigelfuneralhomes.com/obituaries/marian-iott
LOCATION: 204 Chestnut St  Swanton OH 43558
GEO:41.5881563;-83.8883396
END:VEVENT
END:VCALENDAR