BEGIN:VCALENDAR
VERSION:2.0
PRODID:-//Tukios.com/
BEGIN:VEVENT
UID:6acc0ab3-b6dd-4527-9957-7b420087b25f@www.weigelfuneralhomes.com
DTSTAMP:20260421T025457Z
DTSTART:20260423T230000Z
DTEND:20260424T000000Z
SUMMARY:Vigil & Rosary Service
DESCRIPTION:
URL:https://www.weigelfuneralhomes.com/obituaries/marian-iott
LOCATION: 204 Chestnut St  Swanton OH 43558
GEO:41.5881563;-83.8883396
END:VEVENT
END:VCALENDAR