BEGIN:VCALENDAR
VERSION:2.0
PRODID:-//Tukios.com/
BEGIN:VEVENT
UID:6acc028e-7b0a-4632-aca3-c3d72e402a1f@www.weigelfuneralhomes.com
DTSTAMP:20260421T025609Z
DTSTART:20260424T140000Z
DTEND:20260424T150000Z
SUMMARY:Visitation
DESCRIPTION:
URL:https://www.weigelfuneralhomes.com/obituaries/marian-iott
LOCATION: 1750 N Raab Rd  Swanton OH 43558
GEO:41.6534346;-83.8179244
END:VEVENT
END:VCALENDAR