BEGIN:VCALENDAR
VERSION:2.0
PRODID:-//Tukios.com/
BEGIN:VEVENT
UID:06459eca-82b7-4460-9c09-98927ef0d4ee@www.weigelfuneralhomes.com
DTSTAMP:20260421T025457Z
DTSTART:20260424T150000Z
DTEND:20260424T160000Z
SUMMARY:Mass of Christian Burial
DESCRIPTION:
URL:https://www.weigelfuneralhomes.com/obituaries/marian-iott
LOCATION: 1750 N Raab Rd  Swanton OH 43558
GEO:41.6534346;-83.8179244
END:VEVENT
END:VCALENDAR