BEGIN:VCALENDAR
VERSION:2.0
PRODID:-//Tukios.com/
BEGIN:VEVENT
UID:054806ef-249a-4556-a240-a37192b8731c@www.weigelfuneralhomes.com
DTSTAMP:20260426T002616Z
DTSTART:20260430T190000Z
DTEND:20260430T230000Z
SUMMARY:Visitation
DESCRIPTION:
URL:https://www.weigelfuneralhomes.com/obituaries/verna-bratton-keough
LOCATION: 204 Chestnut St  Swanton OH 43558
GEO:41.5881563;-83.8883396
END:VEVENT
END:VCALENDAR