BEGIN:VCALENDAR
VERSION:2.0
PRODID:-//Tukios.com/
BEGIN:VEVENT
UID:f7eb7b3c-fece-42fd-a8d4-3ec457d05acc@www.weigelfuneralhomes.com
DTSTAMP:20260426T002712Z
DTSTART:20260501T150000Z
DTEND:20260501T160000Z
SUMMARY:Funeral Service
DESCRIPTION:
URL:https://www.weigelfuneralhomes.com/obituaries/verna-bratton-keough
LOCATION: 204 Chestnut St  Swanton OH 43558
GEO:41.5881563;-83.8883396
END:VEVENT
END:VCALENDAR